BEGIN:VCALENDAR
VERSION:2.0
PRODID:-//Automotive Local 777 - ECPv6.15.16//NONSGML v1.0//EN
CALSCALE:GREGORIAN
METHOD:PUBLISH
X-WR-CALNAME:Automotive Local 777
X-ORIGINAL-URL:https://locallodge777.com
X-WR-CALDESC:Events for Automotive Local 777
REFRESH-INTERVAL;VALUE=DURATION:PT1H
X-Robots-Tag:noindex
X-PUBLISHED-TTL:PT1H
BEGIN:VTIMEZONE
TZID:America/Chicago
BEGIN:DAYLIGHT
TZOFFSETFROM:-0600
TZOFFSETTO:-0500
TZNAME:CDT
DTSTART:20250309T080000
END:DAYLIGHT
BEGIN:STANDARD
TZOFFSETFROM:-0500
TZOFFSETTO:-0600
TZNAME:CST
DTSTART:20251102T070000
END:STANDARD
BEGIN:DAYLIGHT
TZOFFSETFROM:-0600
TZOFFSETTO:-0500
TZNAME:CDT
DTSTART:20260308T080000
END:DAYLIGHT
BEGIN:STANDARD
TZOFFSETFROM:-0500
TZOFFSETTO:-0600
TZNAME:CST
DTSTART:20261101T070000
END:STANDARD
BEGIN:DAYLIGHT
TZOFFSETFROM:-0600
TZOFFSETTO:-0500
TZNAME:CDT
DTSTART:20270314T080000
END:DAYLIGHT
BEGIN:STANDARD
TZOFFSETFROM:-0500
TZOFFSETTO:-0600
TZNAME:CST
DTSTART:20271107T070000
END:STANDARD
END:VTIMEZONE
BEGIN:VEVENT
DTSTART;TZID=America/Chicago:20261107T000000
DTEND;TZID=America/Chicago:20261107T235959
DTSTAMP:20260423T051502
CREATED:20260223T164240Z
LAST-MODIFIED:20260223T164240Z
UID:8676-1794009600-1794095999@locallodge777.com
SUMMARY:Military Veterans Appreciation Brunch
DESCRIPTION:
URL:https://locallodge777.com/event/military-veterans-appreciation-brunch/
LOCATION:District 9 Machinists Hall\, 12365 St. Charles Rock Rd\, Bridgeton\, MO\, 63044\, United States
END:VEVENT
BEGIN:VEVENT
DTSTART;TZID=America/Chicago:20261111T000000
DTEND;TZID=America/Chicago:20261111T235959
DTSTAMP:20260423T051502
CREATED:20260223T164344Z
LAST-MODIFIED:20260223T164344Z
UID:8678-1794355200-1794441599@locallodge777.com
SUMMARY:Local 777 Office Closed for Veterans’ Day
DESCRIPTION:
URL:https://locallodge777.com/event/local-777-office-closed-for-veterans-day/
END:VEVENT
BEGIN:VEVENT
DTSTART;TZID=America/Chicago:20261112T190000
DTEND;TZID=America/Chicago:20261112T200000
DTSTAMP:20260423T051502
CREATED:20260222T121900Z
LAST-MODIFIED:20260222T121900Z
UID:8602-1794510000-1794513600@locallodge777.com
SUMMARY:Local 777 Monthly Meeting
DESCRIPTION:
URL:https://locallodge777.com/event/local-777-monthly-meeting-9/
LOCATION:District 9 Machinists Hall\, 12365 St. Charles Rock Rd\, Bridgeton\, MO\, 63044\, United States
END:VEVENT
BEGIN:VEVENT
DTSTART;TZID=America/Chicago:20261126T000000
DTEND;TZID=America/Chicago:20261127T235959
DTSTAMP:20260423T051502
CREATED:20260223T164432Z
LAST-MODIFIED:20260223T164432Z
UID:8680-1795651200-1795823999@locallodge777.com
SUMMARY:Local 777 Office Closed for Thanksgiving Holiday
DESCRIPTION:
URL:https://locallodge777.com/event/local-777-office-closed-for-thanksgiving-holiday/
END:VEVENT
END:VCALENDAR